BEGIN:VCALENDAR
VERSION:2.0
CREATED:20260423T131959Z
PRODID:-//Aeluma\, Inc./Equisolve Calendar v1.0//EN
METHOD:PUBLISH
BEGIN:VEVENT
UID:0094afb411bb79e4ba3d14bceee8b209
DTSTAMP:20260425T183257Z
DTSTART:20260428T000000
DTEND:20260430T000000
SUMMARY:2026 SPIE Defense + Security Conference
DESCRIPTION:2026 SPIE Defense + Security Conference
Date: Apr 28 – Apr 30\, 2026
National Harbor\, MD
LOCATION:National Harbor\, MD
END:VEVENT
END:VCALENDAR
